BEGIN:VCALENDAR
VERSION:2.0
PRODID:-//Tukios.com/
BEGIN:VEVENT
UID:21ac5025-3a35-4ad7-822d-e07448c14393@www.humesfh.com
DTSTAMP:20260420T202336Z
DTSTART:20260422T143000Z
DTEND:20260422T153000Z
SUMMARY:Visitation
DESCRIPTION:
URL:https://www.humesfh.com/obituaries/anastasios-tom-kyriakopoulos
LOCATION: 893 Church Road  Elmhurst IL 60126
GEO:41.9266509;-87.9528496
END:VEVENT
END:VCALENDAR