BEGIN:VCALENDAR
VERSION:2.0
PRODID:-//Tukios.com/
BEGIN:VEVENT
UID:7afb7073-6d7c-4455-a4d3-4142379828e4@www.humesfh.com
DTSTAMP:20260420T202552Z
DTSTART:20260422T164500Z
DTEND:20260422T174500Z
SUMMARY:Interment
DESCRIPTION:
URL:https://www.humesfh.com/obituaries/anastasios-tom-kyriakopoulos
LOCATION: 401 East Lake Street  Elmhurst IL 60126
GEO:41.9093429;-87.9270563
END:VEVENT
END:VCALENDAR