BEGIN:VCALENDAR
VERSION:2.0
PRODID:-//Tukios.com/
BEGIN:VEVENT
UID:798010c3-72d0-4a52-8d62-2e312089ca20@www.humesfh.com
DTSTAMP:20260420T202944Z
DTSTART:20260422T153000Z
DTEND:20260422T163000Z
SUMMARY:Mass
DESCRIPTION:
URL:https://www.humesfh.com/obituaries/anastasios-tom-kyriakopoulos
LOCATION: 893 Church Road  Elmhurst IL 60126
GEO:41.9266509;-87.9528496
END:VEVENT
END:VCALENDAR