BEGIN:VCALENDAR
VERSION:2.0
PRODID:-//Tukios.com/
BEGIN:VEVENT
UID:e441079c-7dba-4e53-b8ec-d3b8eeab16ec@www.humesfh.com
DTSTAMP:20260420T202249Z
DTSTART:20260421T200000Z
DTEND:20260422T010000Z
SUMMARY:Celebration of Life
DESCRIPTION:
URL:https://www.humesfh.com/obituaries/ronald-bellas
LOCATION:Humes Funeral Home 320 W Lake St  Addison IL 60101
GEO:41.9360664;-87.9963775
END:VEVENT
END:VCALENDAR